BEGIN:VCALENDAR
VERSION:2.0
PRODID:-//Pacific Northwest Basketball Officials Association - ECPv6.13.0//NONSGML v1.0//EN
CALSCALE:GREGORIAN
METHOD:PUBLISH
X-WR-CALNAME:Pacific Northwest Basketball Officials Association
X-ORIGINAL-URL:https://pnboa.org
X-WR-CALDESC:Events for Pacific Northwest Basketball Officials Association
REFRESH-INTERVAL;VALUE=DURATION:PT1H
X-Robots-Tag:noindex
X-PUBLISHED-TTL:PT1H
BEGIN:VTIMEZONE
TZID:America/Los_Angeles
BEGIN:DAYLIGHT
TZOFFSETFROM:-0800
TZOFFSETTO:-0700
TZNAME:PDT
DTSTART:20260308T100000
END:DAYLIGHT
BEGIN:STANDARD
TZOFFSETFROM:-0700
TZOFFSETTO:-0800
TZNAME:PST
DTSTART:20261101T090000
END:STANDARD
BEGIN:DAYLIGHT
TZOFFSETFROM:-0800
TZOFFSETTO:-0700
TZNAME:PDT
DTSTART:20270314T100000
END:DAYLIGHT
BEGIN:STANDARD
TZOFFSETFROM:-0700
TZOFFSETTO:-0800
TZNAME:PST
DTSTART:20271107T090000
END:STANDARD
END:VTIMEZONE
BEGIN:VEVENT
DTSTART;VALUE=DATE:20261009
DTEND;VALUE=DATE:20261010
DTSTAMP:20260422T161632
CREATED:20260307T034209Z
LAST-MODIFIED:20260307T034209Z
UID:10002125-1791504000-1791590399@pnboa.org
SUMMARY:Hoops4Him Spring 3v3
DESCRIPTION:at Cedar Park Christian
URL:https://pnboa.org/event/hoops4him-spring-3v3/2026-10-09/
CATEGORIES:Games
END:VEVENT
BEGIN:VEVENT
DTSTART;VALUE=DATE:20261016
DTEND;VALUE=DATE:20261017
DTSTAMP:20260422T161632
CREATED:20260307T034209Z
LAST-MODIFIED:20260307T034209Z
UID:10002126-1792108800-1792195199@pnboa.org
SUMMARY:Hoops4Him Spring 3v3
DESCRIPTION:at Cedar Park Christian
URL:https://pnboa.org/event/hoops4him-spring-3v3/2026-10-16/
CATEGORIES:Games
END:VEVENT
BEGIN:VEVENT
DTSTART;VALUE=DATE:20261023
DTEND;VALUE=DATE:20261024
DTSTAMP:20260422T161632
CREATED:20260307T034209Z
LAST-MODIFIED:20260307T034209Z
UID:10002127-1792713600-1792799999@pnboa.org
SUMMARY:Hoops4Him Spring 3v3
DESCRIPTION:at Cedar Park Christian
URL:https://pnboa.org/event/hoops4him-spring-3v3/2026-10-23/
CATEGORIES:Games
END:VEVENT
BEGIN:VEVENT
DTSTART;VALUE=DATE:20261030
DTEND;VALUE=DATE:20261031
DTSTAMP:20260422T161632
CREATED:20260307T034209Z
LAST-MODIFIED:20260307T034209Z
UID:10002128-1793318400-1793404799@pnboa.org
SUMMARY:Hoops4Him Spring 3v3
DESCRIPTION:at Cedar Park Christian
URL:https://pnboa.org/event/hoops4him-spring-3v3/2026-10-30/
CATEGORIES:Games
END:VEVENT
BEGIN:VEVENT
DTSTART;VALUE=DATE:20261106
DTEND;VALUE=DATE:20261107
DTSTAMP:20260422T161632
CREATED:20260307T034209Z
LAST-MODIFIED:20260307T034209Z
UID:10002129-1793923200-1794009599@pnboa.org
SUMMARY:Hoops4Him Spring 3v3
DESCRIPTION:at Cedar Park Christian
URL:https://pnboa.org/event/hoops4him-spring-3v3/2026-11-06/
CATEGORIES:Games
END:VEVENT
BEGIN:VEVENT
DTSTART;VALUE=DATE:20261113
DTEND;VALUE=DATE:20261114
DTSTAMP:20260422T161632
CREATED:20260307T034209Z
LAST-MODIFIED:20260307T034209Z
UID:10002130-1794528000-1794614399@pnboa.org
SUMMARY:Hoops4Him Spring 3v3
DESCRIPTION:at Cedar Park Christian
URL:https://pnboa.org/event/hoops4him-spring-3v3/2026-11-13/
CATEGORIES:Games
END:VEVENT
BEGIN:VEVENT
DTSTART;VALUE=DATE:20261120
DTEND;VALUE=DATE:20261121
DTSTAMP:20260422T161632
CREATED:20260307T034209Z
LAST-MODIFIED:20260307T034209Z
UID:10002131-1795132800-1795219199@pnboa.org
SUMMARY:Hoops4Him Spring 3v3
DESCRIPTION:at Cedar Park Christian
URL:https://pnboa.org/event/hoops4him-spring-3v3/2026-11-20/
CATEGORIES:Games
END:VEVENT
BEGIN:VEVENT
DTSTART;VALUE=DATE:20261127
DTEND;VALUE=DATE:20261128
DTSTAMP:20260422T161632
CREATED:20260307T034209Z
LAST-MODIFIED:20260307T034209Z
UID:10002132-1795737600-1795823999@pnboa.org
SUMMARY:Hoops4Him Spring 3v3
DESCRIPTION:at Cedar Park Christian
URL:https://pnboa.org/event/hoops4him-spring-3v3/2026-11-27/
CATEGORIES:Games
END:VEVENT
BEGIN:VEVENT
DTSTART;VALUE=DATE:20261204
DTEND;VALUE=DATE:20261205
DTSTAMP:20260422T161632
CREATED:20260307T034209Z
LAST-MODIFIED:20260307T034209Z
UID:10002133-1796342400-1796428799@pnboa.org
SUMMARY:Hoops4Him Spring 3v3
DESCRIPTION:at Cedar Park Christian
URL:https://pnboa.org/event/hoops4him-spring-3v3/2026-12-04/
CATEGORIES:Games
END:VEVENT
BEGIN:VEVENT
DTSTART;VALUE=DATE:20261211
DTEND;VALUE=DATE:20261212
DTSTAMP:20260422T161632
CREATED:20260307T034209Z
LAST-MODIFIED:20260307T034209Z
UID:10002134-1796947200-1797033599@pnboa.org
SUMMARY:Hoops4Him Spring 3v3
DESCRIPTION:at Cedar Park Christian
URL:https://pnboa.org/event/hoops4him-spring-3v3/2026-12-11/
CATEGORIES:Games
END:VEVENT
BEGIN:VEVENT
DTSTART;VALUE=DATE:20261218
DTEND;VALUE=DATE:20261219
DTSTAMP:20260422T161632
CREATED:20260307T034209Z
LAST-MODIFIED:20260307T034209Z
UID:10002135-1797552000-1797638399@pnboa.org
SUMMARY:Hoops4Him Spring 3v3
DESCRIPTION:at Cedar Park Christian
URL:https://pnboa.org/event/hoops4him-spring-3v3/2026-12-18/
CATEGORIES:Games
END:VEVENT
BEGIN:VEVENT
DTSTART;VALUE=DATE:20261225
DTEND;VALUE=DATE:20261226
DTSTAMP:20260422T161632
CREATED:20260307T034209Z
LAST-MODIFIED:20260307T034209Z
UID:10002136-1798156800-1798243199@pnboa.org
SUMMARY:Hoops4Him Spring 3v3
DESCRIPTION:at Cedar Park Christian
URL:https://pnboa.org/event/hoops4him-spring-3v3/2026-12-25/
CATEGORIES:Games
END:VEVENT
BEGIN:VEVENT
DTSTART;VALUE=DATE:20270101
DTEND;VALUE=DATE:20270102
DTSTAMP:20260422T161632
CREATED:20260307T034209Z
LAST-MODIFIED:20260307T034209Z
UID:10002137-1798761600-1798847999@pnboa.org
SUMMARY:Hoops4Him Spring 3v3
DESCRIPTION:at Cedar Park Christian
URL:https://pnboa.org/event/hoops4him-spring-3v3/2027-01-01/
CATEGORIES:Games
END:VEVENT
BEGIN:VEVENT
DTSTART;VALUE=DATE:20270108
DTEND;VALUE=DATE:20270109
DTSTAMP:20260422T161632
CREATED:20260307T034209Z
LAST-MODIFIED:20260307T034209Z
UID:10002138-1799366400-1799452799@pnboa.org
SUMMARY:Hoops4Him Spring 3v3
DESCRIPTION:at Cedar Park Christian
URL:https://pnboa.org/event/hoops4him-spring-3v3/2027-01-08/
CATEGORIES:Games
END:VEVENT
BEGIN:VEVENT
DTSTART;VALUE=DATE:20270115
DTEND;VALUE=DATE:20270116
DTSTAMP:20260422T161632
CREATED:20260307T034209Z
LAST-MODIFIED:20260307T034209Z
UID:10002139-1799971200-1800057599@pnboa.org
SUMMARY:Hoops4Him Spring 3v3
DESCRIPTION:at Cedar Park Christian
URL:https://pnboa.org/event/hoops4him-spring-3v3/2027-01-15/
CATEGORIES:Games
END:VEVENT
BEGIN:VEVENT
DTSTART;VALUE=DATE:20270122
DTEND;VALUE=DATE:20270123
DTSTAMP:20260422T161632
CREATED:20260307T034209Z
LAST-MODIFIED:20260307T034209Z
UID:10002140-1800576000-1800662399@pnboa.org
SUMMARY:Hoops4Him Spring 3v3
DESCRIPTION:at Cedar Park Christian
URL:https://pnboa.org/event/hoops4him-spring-3v3/2027-01-22/
CATEGORIES:Games
END:VEVENT
BEGIN:VEVENT
DTSTART;VALUE=DATE:20270129
DTEND;VALUE=DATE:20270130
DTSTAMP:20260422T161632
CREATED:20260307T034209Z
LAST-MODIFIED:20260307T034209Z
UID:10002141-1801180800-1801267199@pnboa.org
SUMMARY:Hoops4Him Spring 3v3
DESCRIPTION:at Cedar Park Christian
URL:https://pnboa.org/event/hoops4him-spring-3v3/2027-01-29/
CATEGORIES:Games
END:VEVENT
BEGIN:VEVENT
DTSTART;VALUE=DATE:20270205
DTEND;VALUE=DATE:20270206
DTSTAMP:20260422T161632
CREATED:20260307T034209Z
LAST-MODIFIED:20260307T034209Z
UID:10002142-1801785600-1801871999@pnboa.org
SUMMARY:Hoops4Him Spring 3v3
DESCRIPTION:at Cedar Park Christian
URL:https://pnboa.org/event/hoops4him-spring-3v3/2027-02-05/
CATEGORIES:Games
END:VEVENT
BEGIN:VEVENT
DTSTART;VALUE=DATE:20270212
DTEND;VALUE=DATE:20270213
DTSTAMP:20260422T161632
CREATED:20260307T034209Z
LAST-MODIFIED:20260307T034209Z
UID:10002143-1802390400-1802476799@pnboa.org
SUMMARY:Hoops4Him Spring 3v3
DESCRIPTION:at Cedar Park Christian
URL:https://pnboa.org/event/hoops4him-spring-3v3/2027-02-12/
CATEGORIES:Games
END:VEVENT
BEGIN:VEVENT
DTSTART;VALUE=DATE:20270219
DTEND;VALUE=DATE:20270220
DTSTAMP:20260422T161632
CREATED:20260307T034209Z
LAST-MODIFIED:20260307T034209Z
UID:10002144-1802995200-1803081599@pnboa.org
SUMMARY:Hoops4Him Spring 3v3
DESCRIPTION:at Cedar Park Christian
URL:https://pnboa.org/event/hoops4him-spring-3v3/2027-02-19/
CATEGORIES:Games
END:VEVENT
BEGIN:VEVENT
DTSTART;VALUE=DATE:20270226
DTEND;VALUE=DATE:20270227
DTSTAMP:20260422T161632
CREATED:20260307T034209Z
LAST-MODIFIED:20260307T034209Z
UID:10002145-1803600000-1803686399@pnboa.org
SUMMARY:Hoops4Him Spring 3v3
DESCRIPTION:at Cedar Park Christian
URL:https://pnboa.org/event/hoops4him-spring-3v3/2027-02-26/
CATEGORIES:Games
END:VEVENT
BEGIN:VEVENT
DTSTART;VALUE=DATE:20270305
DTEND;VALUE=DATE:20270306
DTSTAMP:20260422T161632
CREATED:20260307T034209Z
LAST-MODIFIED:20260307T034209Z
UID:10002146-1804204800-1804291199@pnboa.org
SUMMARY:Hoops4Him Spring 3v3
DESCRIPTION:at Cedar Park Christian
URL:https://pnboa.org/event/hoops4him-spring-3v3/2027-03-05/
CATEGORIES:Games
END:VEVENT
BEGIN:VEVENT
DTSTART;VALUE=DATE:20270312
DTEND;VALUE=DATE:20270313
DTSTAMP:20260422T161632
CREATED:20260307T034209Z
LAST-MODIFIED:20260307T034209Z
UID:10002147-1804809600-1804895999@pnboa.org
SUMMARY:Hoops4Him Spring 3v3
DESCRIPTION:at Cedar Park Christian
URL:https://pnboa.org/event/hoops4him-spring-3v3/2027-03-12/
CATEGORIES:Games
END:VEVENT
BEGIN:VEVENT
DTSTART;VALUE=DATE:20270319
DTEND;VALUE=DATE:20270320
DTSTAMP:20260422T161632
CREATED:20260307T034209Z
LAST-MODIFIED:20260307T034209Z
UID:10002148-1805414400-1805500799@pnboa.org
SUMMARY:Hoops4Him Spring 3v3
DESCRIPTION:at Cedar Park Christian
URL:https://pnboa.org/event/hoops4him-spring-3v3/2027-03-19/
CATEGORIES:Games
END:VEVENT
BEGIN:VEVENT
DTSTART;VALUE=DATE:20270326
DTEND;VALUE=DATE:20270327
DTSTAMP:20260422T161632
CREATED:20260307T034209Z
LAST-MODIFIED:20260307T034209Z
UID:10002149-1806019200-1806105599@pnboa.org
SUMMARY:Hoops4Him Spring 3v3
DESCRIPTION:at Cedar Park Christian
URL:https://pnboa.org/event/hoops4him-spring-3v3/2027-03-26/
CATEGORIES:Games
END:VEVENT
BEGIN:VEVENT
DTSTART;VALUE=DATE:20270402
DTEND;VALUE=DATE:20270403
DTSTAMP:20260422T161632
CREATED:20260307T034209Z
LAST-MODIFIED:20260307T034209Z
UID:10002150-1806624000-1806710399@pnboa.org
SUMMARY:Hoops4Him Spring 3v3
DESCRIPTION:at Cedar Park Christian
URL:https://pnboa.org/event/hoops4him-spring-3v3/2027-04-02/
CATEGORIES:Games
END:VEVENT
BEGIN:VEVENT
DTSTART;VALUE=DATE:20270409
DTEND;VALUE=DATE:20270410
DTSTAMP:20260422T161632
CREATED:20260307T034209Z
LAST-MODIFIED:20260307T034209Z
UID:10002151-1807228800-1807315199@pnboa.org
SUMMARY:Hoops4Him Spring 3v3
DESCRIPTION:at Cedar Park Christian
URL:https://pnboa.org/event/hoops4him-spring-3v3/2027-04-09/
CATEGORIES:Games
END:VEVENT
BEGIN:VEVENT
DTSTART;VALUE=DATE:20270416
DTEND;VALUE=DATE:20270417
DTSTAMP:20260422T161632
CREATED:20260307T034209Z
LAST-MODIFIED:20260307T034209Z
UID:10002152-1807833600-1807919999@pnboa.org
SUMMARY:Hoops4Him Spring 3v3
DESCRIPTION:at Cedar Park Christian
URL:https://pnboa.org/event/hoops4him-spring-3v3/2027-04-16/
CATEGORIES:Games
END:VEVENT
BEGIN:VEVENT
DTSTART;VALUE=DATE:20270423
DTEND;VALUE=DATE:20270424
DTSTAMP:20260422T161632
CREATED:20260307T034209Z
LAST-MODIFIED:20260307T034209Z
UID:10002153-1808438400-1808524799@pnboa.org
SUMMARY:Hoops4Him Spring 3v3
DESCRIPTION:at Cedar Park Christian
URL:https://pnboa.org/event/hoops4him-spring-3v3/2027-04-23/
CATEGORIES:Games
END:VEVENT
BEGIN:VEVENT
DTSTART;VALUE=DATE:20270430
DTEND;VALUE=DATE:20270501
DTSTAMP:20260422T161632
CREATED:20260307T034209Z
LAST-MODIFIED:20260307T034209Z
UID:10002154-1809043200-1809129599@pnboa.org
SUMMARY:Hoops4Him Spring 3v3
DESCRIPTION:at Cedar Park Christian
URL:https://pnboa.org/event/hoops4him-spring-3v3/2027-04-30/
CATEGORIES:Games
END:VEVENT
END:VCALENDAR